BEGIN:VCALENDAR
VERSION:2.0
PRODID:-//The Crest - ECPv6.15.18//NONSGML v1.0//EN
CALSCALE:GREGORIAN
METHOD:PUBLISH
X-ORIGINAL-URL:https://thecrestatwillowwitt.org
X-WR-CALDESC:Events for The Crest
REFRESH-INTERVAL;VALUE=DURATION:PT1H
X-Robots-Tag:noindex
X-PUBLISHED-TTL:PT1H
BEGIN:VTIMEZONE
TZID:America/Los_Angeles
BEGIN:DAYLIGHT
TZOFFSETFROM:-0800
TZOFFSETTO:-0700
TZNAME:PDT
DTSTART:20240310T100000
END:DAYLIGHT
BEGIN:STANDARD
TZOFFSETFROM:-0700
TZOFFSETTO:-0800
TZNAME:PST
DTSTART:20241103T090000
END:STANDARD
BEGIN:DAYLIGHT
TZOFFSETFROM:-0800
TZOFFSETTO:-0700
TZNAME:PDT
DTSTART:20250309T100000
END:DAYLIGHT
BEGIN:STANDARD
TZOFFSETFROM:-0700
TZOFFSETTO:-0800
TZNAME:PST
DTSTART:20251102T090000
END:STANDARD
BEGIN:DAYLIGHT
TZOFFSETFROM:-0800
TZOFFSETTO:-0700
TZNAME:PDT
DTSTART:20260308T100000
END:DAYLIGHT
BEGIN:STANDARD
TZOFFSETFROM:-0700
TZOFFSETTO:-0800
TZNAME:PST
DTSTART:20261101T090000
END:STANDARD
END:VTIMEZONE
BEGIN:VEVENT
DTSTART;TZID=America/Los_Angeles:20250808T190000
DTEND;TZID=America/Los_Angeles:20250809T230000
DTSTAMP:20260419T165406
CREATED:20250325T213959Z
LAST-MODIFIED:20250804T225125Z
UID:10000020-1754679600-1754780400@thecrestatwillowwitt.org
SUMMARY:Grasshoppers in the Monument! With Friends of Siskiyou-Cascade National Monument!
DESCRIPTION:Grasshoppers in the Monument! With Friends of Siskiyou-Cascade National Monument. \nJoin the Friends by appreciating the diversity of grasshoppers in the Cascade-Siskiyou National Monument! Led by Joe Baures and Dr. Jacob Youngblood. This two-day event is part of the Friends’ Hike and Learn series. We will discuss grasshopper identification\, how environmental differences affect grasshoppers\, and highlight some of the endemic species that can be found in the region. During the Saturday excursion\, we will have  lunch at Willow-Witt Ranch. \nFriday Night Talk – August 8th\, 6:00 – 7:30 PM — Sign up HERE \nSaturday Excursion – August 9th\, 9:00 – 3:00 PM — Sign up HERE \n 
URL:https://thecrestatwillowwitt.org/event/grasshoppers-in-the-monument-with-friends-of-siskiyou-cascade-national-monument/
LOCATION:Oregon
CATEGORIES:Activities,Events
END:VEVENT
END:VCALENDAR